Workbook

Sheet ReadMe
B2: READ ME
B5: Model Date & Data Cutoff
B6: Data Cutoff: | C6: 46248
B7: Share Price as of: | C7: 46248
B8: Last Filing Used: | C8: 2025 20-F (published April 2026)
B9: FX Conversion Basis: | C9: TSMC-reported USD figures in 20-F filings
B10: Forecast Start: | C10: 2026
A13: x | B13: 1. Purpose of the Model
B14: Integrated 3-Statement Model for TSMC (Income Statement, Balance Sheet, Cash Flow Statement
B15: Forecasting financial performance and valuation (DCF, Trading Comps, Sensitivity)
B16: Provides standardized structure for scenario analysis and valuation use-cases
A19: x | B19: 2. Model Structure (Tabs Overview)
B20: Read Me - Model documentation
B21: Assumptions - Key drivers and forecast inputs
B22: IS - Income Statement (actuals + forecast)
B23: BS - Balance Sheet
B24: CF - Cash Flow Statement
B25: PP&E - Rollforward for CapEx & D&A tracking
B26: WC_Schedule - Working Capital rollforward
B27: Securities - Rollforward for Short-/Long-term marketable securities
B28: DCF - Discounted Cash Flow valuation
B29: Comps - Trading comps (multiples table)
B30: Sensitivity - Key valuation sensitivities
B31: Valuation_Summary - Consolidated output
A34: x | B34: 3. Key Modeling Principles
B35: Blue = Hardcoded (inputs)
B36: Black = Formulas
B37: Green = Subtotals / Key Outputs
B38: Iterative calculation enabled for cash / interest circularity
B39: Historical data directly tied to 20-F filings (2021-2025)
B40: Forecast logic entirely assumption-driven
A43: x | B43: 4. Data Sources
B44: Company filings: SEC 20-F (2021-2025)
B45: Historical FX conversion: Company-reported NT$ -> USD
B46: Market data: yahoo finance
A49: x | B49: 5. Calculation Approach
B50: Income Statement forecast driven by revenue growth, margins & expense ratios
B51: BS forecast driven by working capital, PP&E rollforward, and securities rollforwards
B52: Cash Flow auto-reconciles CFO + CFI + CFF
B53: Other Cash Flow Adjustments (Balancing Item)
...

Sheet Assumptions
B2: ASSUMPTIONS | I2: Base
B3: Scenario Selector | C3: Base | I3: Bull
I4: Bear
C5: =_xlfn.NUMBERVALUE(ReadMe!$C$10) -> 2026 | D5: =C5+1 -> 2027 | E5: =D5+1 -> 2028 | F5: =E5+1 -> 2029 | G5: =F5+1 -> 2030 | H5: Terminal
A6: x | B6: 1. Revenue Drivers
B7: Revenue Growth % | C7: 0.41 | D7: 0.19 | E7: 0.16 | F7: 0.14 | G7: 0.12 | H7: 0.03
B8: Volume Growth % | C8: 0.25 | D8: 0.11 | E8: 0.09 | F8: 0.08 | G8: 0.07 | H8: 0.02
B9: Price Growth % | C9: 0.16 | D9: 0.08 | E9: 0.07 | F9: 0.06 | G9: 0.05 | H9: 0.01
C10: =C7=(C8+C9) -> TRUE | D10: =D7=(D8+D9) -> TRUE | E10: =E7=(E8+E9) -> TRUE | F10: =F7=(F8+F9) -> TRUE | G10: =G7=(G8+G9) -> TRUE | H10: =H7=(H8+H9) -> TRUE
A12: x | B12: 2. Cost Structure Assumptions
B13: Gross Margin % | C13: 0.66 | D13: 0.64 | E13: 0.62 | F13: 0.6 | G13: 0.59 | H13: 0.57
B14: R&D as % of Revenue | C14: 0.06 | D14: 0.06 | E14: 0.06 | F14: 0.06 | G14: 0.06
B15: SG&A as % of Revenue | C15: 0.022 | D15: 0.022 | E15: 0.022 | F15: 0.022 | G15: 0.022
B16: Other OpEx (% Rev) | C16: 0.001 | D16: 0.001 | E16: 0.001 | F16: 0.001 | G16: 0.001
A19: x | B19: 3. Working Capital Drivers
B20: AR Days | C20: 30 | D20: 30 | E20: 30 | F20: 30 | G20: 30
B21: Inventory Days | C21: 87 | D21: 85 | E21: 82 | F21: 80 | G21: 80
B22: AP Days | C22: 65 | D22: 65 | E22: 65 | F22: 65 | G22: 65
B23: Other Current Assets (% Rev) | C23: 0.04 | D23: 0.038 | E23: 0.035 | F23: 0.033 | G23: 0.03
B24: Other Current Liabilities (% Rev) | C24: 0.145 | D24: 0.145 | E24: 0.145 | F24: 0.145 | G24: 0.145
B25: Accrued Liabilities as % of OPEX on historical run-rate | C25: 1.55 | D25: 1.55 | E25: 1.55 | F25: 1.55 | G25: 1.55
A28: x | B28: 4. PP&E / CapEx Assumptions
B29: CapEx as % of revenue | C29: 0.36 | D29: 0.32 | E29: 0.29 | F29: 0.27 | G29: 0.25
B30: D&A as % of revenue based on historical run-rate | C30: 0.16 | D30: 0.17 | E30: 0.18 | F30: 0.19 | G30: 0.2
A33: x | B33: 5. Marketable Securities Assumptions
B34: Short-term securities net purchases/sales (future) | C34: 0 | D34: 0 | E34: 0 | F34: 0 | G34: 0
B35: Long-term securities net purchases/sales (future) | C35: 0 | D35: 0 | E35: 0 | F35: 0 | G35: 0
A38: x | B38: 6. Financing Assumptions
B39: Yield on Cash & Securities | C39: 0.035 | D39: 0.035 | E39: 0.0325 | F39: 0.03 | G39: 0.03
B40: LT Debt Change | C40: 0 | D40: 0 | E40: 0 | F40: 0 | G40: 0
B41: ST Debt Change | C41: 0 | D41: 0 | E41: 0 | F41: 0 | G41: 0
B42: Dividend Payout Ratio | C42: 0.25 | D42: 0.25 | E42: 0.25 | F42: 0.25 | G42: 0.25
B43: Share repurchases (in M USD) | C43: 0 | D43: 0 | E43: 0 | F43: 0 | G43: 0
A46: x | B46: 7. Tax Assumptions
B47: Effective Tax Rate % | C47: 0.175 | D47: 0.175 | E47: 0.175 | F47: 0.175 | G47: 0.175
B48: Tax Rate % | C48: 0.2
A51: x | B51: 8. DCF Assumptions
B52: WACC Inputs: | C52: one cell
B53: Risk-free rate | C53: 0.047
B54: Equity risk premium | C54: 0.043
...

Sheet IS
B2: INCOME STATEMENT
B3: USD in Millions except per share
C5: =D5-1 -> 2021 | D5: =E5-1 -> 2022 | E5: =F5-1 -> 2023 | F5: =G5-1 -> 2024 | G5: =H5-1 -> 2025 | H5: =_xlfn.NUMBERVALUE(ReadMe!$C$10) -> 2026 | I5: =H5+1 -> 2027 | J5: =I5+1 -> 2028 | K5: =J5+1 -> 2029 | L5: =K5+1 -> 2030
A6: x | B6: Revenue | C6: 57224.8 | D6: 73670.4 | E6: 70598.8 | F6: 88268 | G6: 121423.5 | H6: =G6*(1+Assumptions!C83) -> 171207.13 | I6: =H6*(1+Assumptions!D83) -> 203736.49 | J6: =I6*(1+Assumptions!E83) -> 236334.33 | K6: =J6*(1+Assumptions!F83) -> 269421.14 | L6: =K6*(1+Assumptions!G83) -> 301751.67
B7: % Growth (YoY) | D7: =(D6-C6)/C6 -> 0.28738589 | E7: =(E6-D6)/D6 -> -0.041693815 | F7: =(F6-E6)/E6 -> 0.25027621 | G7: =(G6-F6)/F6 -> 0.3756231 | H7: =(H6-G6)/G6 -> 0.41 | I7: =(I6-H6)/H6 -> 0.19 | J7: =(J6-I6)/I6 -> 0.16 | K7: =(K6-J6)/J6 -> 0.14 | L7: =(L6-K6)/K6 -> 0.12
B8: Cost of Goods Sold | C8: 27681.3 | D8: 29792.9 | E8: 32221.6 | F8: 38729.9 | G8: 48701.3 | H8: =H6*(1-Assumptions!C84) -> 58210.426 | I8: =I6*(1-Assumptions!D84) -> 73345.137 | J8: =J6*(1-Assumptions!E84) -> 89807.045 | K8: =K6*(1-Assumptions!F84) -> 107768.45 | L8: =L6*(1-Assumptions!G84) -> 123718.19
A9: x | B9: Gross Profit | C9: 29543.5 | D9: 43877.5 | E9: 38377.2 | F9: 49538.1 | G9: 72722.2 | H9: =H6-H8 -> 112996.71 | I9: =I6-I8 -> 130391.35 | J9: =J6-J8 -> 146527.28 | K9: =K6-K8 -> 161652.68 | L9: =L6-L8 -> 178033.49
B10: Gross Margin % | C10: =C9/C6 -> 0.51627092 | D10: =D9/D6 -> 0.59559199 | E10: =E9/E6 -> 0.54359564 | F10: =F9/F6 -> 0.56122377 | G10: =G9/G6 -> 0.59891372 | H10: =H9/H6 -> 0.66 | I10: =I9/I6 -> 0.64 | J10: =J9/J6 -> 0.62 | ... L10: =L9/L6 -> 0.59
B12: R&D | C12: 4496.6 | D12: 5312.9 | E12: 5955.9 | F12: 6227 | G12: 7855.5 | H12: =H6*Assumptions!C14 -> 10272.428 | I12: =I6*Assumptions!D14 -> 12224.189 | J12: =J6*Assumptions!E14 -> 14180.06 | K12: =K6*Assumptions!F14 -> 16165.268 | L12: =L6*Assumptions!G14 -> 18105.1
B13: % of Revenue | C13: =C12/C6 -> 0.078577819 | D13: =D12/D6 -> 0.07211716 | E13: =E12/E6 -> 0.084362624 | F13: =F12/F6 -> 0.070546517 | G13: =G12/G6 -> 0.064695055 | H13: =H12/H6 -> 0.06 | I13: =I12/I6 -> 0.06 | J13: =J12/J6 -> 0.06 | ... L13: =L12/L6 -> 0.06
B15: SG&A | C15: =1331.3+272.4 -> 1603.7 | D15: =1741.8+322.7 -> 2064.5 | E15: =1988+345.9 -> 2333.9 | F15: =2554+400.8 -> 2954.8 | G15: =2623.7+539.3 -> 3163 | H15: =H6*Assumptions!C15 -> 3766.557 | I15: =I6*Assumptions!D15 -> 4482.2028 | J15: =J6*Assumptions!E15 -> 5199.3552 | K15: =K6*Assumptions!F15 -> 5927.265 | L15: =L6*Assumptions!G15 -> 6638.5368
B16: % of Revenue | C16: =C15/C6 -> 0.028024563 | D16: =D15/D6 -> 0.028023467 | E16: =E15/E6 -> 0.033058636 | F16: =F15/F6 -> 0.033475325 | G16: =G15/G6 -> 0.026049323
A18: x | B18: EBIT | C18: 23431.2 | D18: 36488.1 | E18: 30093.6 | F18: 40318.8 | G18: 61717.9 | H18: =H9-H12-H15 -> 98957.724 | I18: =I9-I12-I15 -> 113684.96 | J18: =J9-J12-J15 -> 127147.87 | K18: =K9-K12-K15 -> 139560.15 | L18: =L9-L12-L15 -> 153289.85
B19: EBIT Margin % | C19: =C18/C6 -> 0.40945884 | D19: =D18/D6 -> 0.49528847 | E19: =E18/E6 -> 0.4262622 | F19: =F18/F6 -> 0.45677709 | G19: =G18/G6 -> 0.50828629 | H19: =H18/H6 -> 0.578 | I19: =I18/I6 -> 0.558 | J19: =J18/J6 -> 0.538 | ... L19: =L18/L6 -> 0.508
B21: D&A | C21: =14931.1+295.9 -> 15227 | D21: =13944+284.9 -> 14228.9 | E21: =17078.1+302.4 -> 17380.5 | F21: =19933.2+280.2 -> 20213.4 | G21: =21666.7+268.2 -> 21934.9 | H21: ='PP&E'!H8 -> 27393.142 | I21: ='PP&E'!I8 -> 34635.203 | J21: ='PP&E'!J8 -> 42540.179 | K21: ='PP&E'!K8 -> 51190.016 | L21: ='PP&E'!L8 -> 60350.334
A23: x | B23: EBITDA | C23: =C18+C21 -> 38658.2 | D23: =D18+D21 -> 50717 | E23: =E18+E21 -> 47474.1 | F23: =F18+F21 -> 60532.2 | G23: =G18+G21 -> 83652.8 | H23: =H18+H21 -> 126350.87 | I23: =I18+I21 -> 148320.17 | J23: =J18+J21 -> 169688.05 | ... L23: =L18+L21 -> 213640.18
B24: EBITDA Margin % | C24: =C23/C6 -> 0.67554976 | D24: =D23/D6 -> 0.68843117 | E24: =E23/E6 -> 0.67244911 | F24: =F23/F6 -> 0.68577741 | G24: =G23/G6 -> 0.68893418 | H24: =H23/H6 -> 0.738 | I24: =I23/I6 -> 0.728 | J24: =J23/J6 -> 0.718 | ... L24: =L23/L6 -> 0.708
B26: Interest Income | C26: 205.8 | D26: 729.7 | E26: 1969.1 | F26: 2659.8 | G26: 3370.7 | H26: =AVERAGE(BS!G8+BS!G9+BS!G18,BS!H8+BS!H9+BS!H18)*Assumptions!C39 -> 4103.8203 | I26: =AVERAGE(BS!H8+BS!H9+BS!H18,BS!I8+BS!I9+BS!I18)*Assumptions!D39 -> 5453.9562 | J26: =AVERAGE(BS!I8+BS!I9+BS!I18,BS!J8+BS!J9+BS!J18)*Assumptions!E39 -> 6822.0637 | K26: =AVERAGE(BS!J8+BS!J9+BS!J18,BS!K8+BS!K9+BS!K18)*Assumptions!F39 -> 8331.3914 | L26: =AVERAGE(BS!K8+BS!K9+BS!K18,BS!L8+BS!L9+BS!L18)*Assumptions!G39 -> 10806.124
B27: Interest Expense | C27: 195.2 | D27: 382.4 | E27: 391.9 | F27: 320.1 | G27: 394.3 | H27: =(AVERAGE(BS!G26,BS!H26)+AVERAGE(BS!G33,BS!H33))*Assumptions!$C$56 -> 1745.2476 | I27: =(AVERAGE(BS!H26,BS!I26)+AVERAGE(BS!H33,BS!I33))*Assumptions!$C$56 -> 1745.2476 | J27: =(AVERAGE(BS!I26,BS!J26)+AVERAGE(BS!I33,BS!J33))*Assumptions!$C$56 -> 1745.2476 | K27: =(AVERAGE(BS!J26,BS!K26)+AVERAGE(BS!J33,BS!K33))*Assumptions!$C$56 -> 1745.2476 | L27: =(AVERAGE(BS!K26,BS!L26)+AVERAGE(BS!K33,BS!L33))*Assumptions!$C$56 -> 1745.2476
B28: Other Income / (Expenses) | C28: 35.1 | D28: 30.8 | E28: 15.7 | F28: 17.3 | G28: 18.9
A30: x | B30: Pre-Tax Income | C30: 23901.8 | D30: 37229.8 | E30: 31982.9 | F30: 42874 | G30: 65083 | H30: =H18+H26-H27+H28 -> 101316.3 | I30: =I18+I26-I27+I28 -> 117393.67 | J30: =J18+J26-J27+J28 -> 132224.69 | K30: =K18+K26-K27+K28 -> 146146.29 | L30: =L18+L26-L27+L28 -> 162350.73
B31: Income Tax Expense | C31: 2529 | D31: 4906.5 | E31: 4189.7 | F31: 7572.9 | G31: 11046.5 | H31: =H30*Assumptions!C47 -> 17730.352 | I31: =I30*Assumptions!D47 -> 20543.892 | J31: =J30*Assumptions!E47 -> 23139.32 | K31: =K30*Assumptions!F47 -> 25575.601 | L31: =L30*Assumptions!G47 -> 28411.377
B32: Effective Tax Rate % | C32: =C31/C30 -> 0.10580793 | D32: =D31/D30 -> 0.13178959 | E32: =E31/E30 -> 0.13099813 | F32: =F31/F30 -> 0.17663152 | G32: =G31/G30 -> 0.16972942 | H32: =H31/H30 -> 0.175 | I32: =I31/I30 -> 0.175 | J32: =J31/J30 -> 0.175 | ... L32: =L31/L30 -> 0.175
A34: x | B34: Net Income | C34: 21372.8 | D34: 32323.3 | E34: 27793.2 | F34: 35301.1 | G34: 54036.5 | H34: =H30-H31 -> 83585.945 | I34: =I30-I31 -> 96849.778 | J34: =J30-J31 -> 109085.37 | K34: =K30-K31 -> 120570.69 | L34: =L30-L31 -> 133939.35
B35: Net Margin % | C35: =C34/C6 -> 0.37348842 | D35: =D34/D6 -> 0.43875559 | E35: =E34/E6 -> 0.39367808 | F35: =F34/F6 -> 0.39993089 | G35: =G34/G6 -> 0.44502506 | H35: =H34/H6 -> 0.48821531 | I35: =I34/I6 -> 0.47536785 | J35: =J34/J6 -> 0.46157224 | ... L35: =L34/L6 -> 0.44387276
B37: Basic Shares Outstanding (in Mio.) | C37: 25930.3 | D37: 25930.3 | E37: 25932.1 | F37: 25932.7 | G37: 25932.7 | H37: =G37 -> 25932.7 | I37: =H37 -> 25932.7 | J37: =I37 -> 25932.7 | K37: =J37 -> 25932.7 | L37: =K37 -> 25932.7
B38: Earnings Per Share (EPS) | C38: 0.82 | D38: =D34/D37 -> 1.2465455 | E38: 1.07 | F38: =44.67/32.79 -> 1.3623056 | G38: 2.09 | H38: =H34/H37 -> 3.2231871 | I38: =I34/I37 -> 3.7346585 | J38: =J34/J37 -> 4.2064793 | K38: =K34/K37 -> 4.649369 | L38: =L34/L37 -> 5.1648825
B39: Diluted Shares Outstanding (in Mio.) | C39: 25930.3 | D39: 25930.3 | E39: 25932.1 | F39: 25932.7 | G39: 25932.7 | H39: =G39 -> 25932.7 | I39: =H39 -> 25932.7 | J39: =I39 -> 25932.7 | K39: =J39 -> 25932.7 | L39: =K39 -> 25932.7
B40: Diluted EPS | C40: 0.82 | D40: =D34/D39 -> 1.2465455 | E40: 1.07 | F40: =44.67/32.79 -> 1.3623056 | G40: 2.09 | H40: =H34/H39 -> 3.2231871 | I40: =I34/I39 -> 3.7346585 | J40: =J34/J39 -> 4.2064793 | K40: =K34/K39 -> 4.649369 | L40: =L34/L39 -> 5.1648825

Sheet BS
B2: BALANCE SHEET
B3: USD in Millions
C5: =D5-1 -> 2021 | D5: =E5-1 -> 2022 | E5: =F5-1 -> 2023 | F5: =G5-1 -> 2024 | G5: =H5-1 -> 2025 | H5: =_xlfn.NUMBERVALUE(ReadMe!$C$10) -> 2026 | I5: =H5+1 -> 2027 | J5: =I5+1 -> 2028 | K5: =J5+1 -> 2029 | L5: =K5+1 -> 2030
A6: x | B6: ASSETS
B7: Current Assets
B8: Cash & Cash Equivalents | C8: 38391.9 | D8: 43697.2 | E8: 47858.5 | F8: 64886.5 | G8: 88232.6 | H8: =CF!H36 -> 118532.81 | I8: =CF!I36 -> 165383.23 | J8: =CF!J36 -> 226697.48 | K8: =CF!K36 -> 300990.02 | L8: =CF!L36 -> 391679.66
B9: Short-Term Marketable Securities | C9: =5.7+4308.5+136+0.5 -> 4450.7 | D9: =34.8+4002.6+3078.4+0.1 -> 7115.9 | E9: =30.2+5046.7+2180.3+0 -> 7257.2 | F9: =6.3+5861.6+3109.8+0.3 -> 8978 | G9: =3.2+5600.7+3983+0 -> 9586.9 | H9: =Securities!H8 -> 9586.9 | I9: =Securities!I8 -> 9586.9 | J9: =Securities!J8 -> 9586.9 | K9: =Securities!K8 -> 9586.9 | L9: =Securities!L8 -> 9586.9
B10: Accounts Receivable | C10: =7122.8+25.8+2.2 -> 7150.8 | D10: =7476.6+51.5+2.3 -> 7530.4 | E10: =6574.6+20.4+2.3 -> 6597.3 | F10: =8255.1+42.8+0 -> 8297.9 | G10: =8895.5+87.3+8.5 -> 8991.3 | H10: =WC_Schedule!H6 -> 14071.819 | I10: =WC_Schedule!I6 -> 16745.465 | J10: =WC_Schedule!J6 -> 19424.739 | K10: =WC_Schedule!K6 -> 22144.203 | L10: =WC_Schedule!L6 -> 24801.507
B11: Inventory | C11: 6961.2 | D11: 7196.5 | E11: 8197.2 | F11: 8779.2 | G11: 9184.2 | H11: =WC_Schedule!H7 -> 13874.814 | I11: =WC_Schedule!I7 -> 17080.374 | J11: =WC_Schedule!J7 -> 20175.829 | K11: =WC_Schedule!K7 -> 23620.483 | L11: =WC_Schedule!L7 -> 27116.315
B12: Other Current Assets | C12: =599.5+379.3 -> 978.8 | D12: =844.9+419.4 -> 1264.3 | E12: =887+856.4 -> 1743.4 | F12: =1925.6+1318.6 -> 3244.2 | G12: =1903.2+3782.7 -> 5685.9 | H12: =WC_Schedule!H10 -> 6848.2854 | I12: =WC_Schedule!I10 -> 7741.9866 | J12: =WC_Schedule!J10 -> 8271.7015 | K12: =WC_Schedule!K10 -> 8890.8975 | L12: =WC_Schedule!L10 -> 9052.5501
B13: Total Current Assets | C13: 57933.4 | D13: 66804.3 | E13: 71653.6 | F13: 94185.8 | G13: 121680.9 | H13: =SUM(H8:H12) -> 162914.63 | I13: =SUM(I8:I12) -> 216537.95 | J13: =SUM(J8:J12) -> 284156.65 | K13: =SUM(K8:K12) -> 365232.5 | L13: =SUM(L8:L12) -> 462236.93
B15: Non-Current Assets
B16: Property, Plant & Equipment (PP&E) | C16: 71201.1 | D16: 87661.5 | E16: 100080.9 | F16: 98657.5 | G16: 117687 | H16: ='PP&E'!H10 -> 151928.43 | I16: ='PP&E'!I10 -> 182488.9 | J16: ='PP&E'!J10 -> 208485.68 | K16: ='PP&E'!K10 -> 230039.37 | L16: ='PP&E'!L10 -> 245126.95
B17: Intangible Assets | C17: 966.9 | D17: 846.1 | E17: 743.5 | F17: 801.5 | G17: 795.4 | H17: =G17 -> 795.4 | I17: =H17 -> 795.4 | J17: =I17 -> 795.4 | K17: =J17 -> 795.4 | L17: =K17 -> 795.4
B18: Long-Term Marketable Securities | C18: =212.3+55.3 -> 267.6 | D18: =200.4+1143.1 -> 1343.5 | E18: =438.2+235.4+2586.5 -> 3260.1 | F18: =463.6+238.6+2701.9 -> 3404.1 | G18: =479.2+280.5+3522.7 -> 4282.4 | H18: =Securities!H18 -> 4282.4 | I18: =Securities!I18 -> 4282.4 | J18: =Securities!J18 -> 4282.4 | K18: =Securities!K18 -> 4282.4 | L18: =Securities!L18 -> 4282.4
B19: Other Non-Current Assets | C19: =784.5+1180+1772+94.6+93.4 -> 3924.5 | D19: =889.1+1363.9+2251.4+145.4+245.7 -> 4895.5 | E19: =961.5+1320.2+2095.9+230.1+326.9 -> 4934.6 | F19: =1135.9+1223.8+2011.1+167.6+2492.1 -> 7030.5 | G19: =1206.6+1400+2006.4+135.3+3685.9 -> 8434.2 | H19: =G19 -> 8434.2 | I19: =H19 -> 8434.2 | J19: =I19 -> 8434.2 | K19: =J19 -> 8434.2 | L19: =K19 -> 8434.2
B20: Total Non-Current Assets | C20: 76360.1 | D20: 94746.6 | E20: 109019.1 | F20: 109893.6 | G20: 131199 | H20: =SUM(H16:H19) -> 165440.43 | I20: =SUM(I16:I19) -> 196000.9 | J20: =SUM(J16:J19) -> 221997.68 | K20: =SUM(K16:K19) -> 243551.37 | L20: =SUM(L16:L19) -> 258638.95
B22: Total Assets | C22: 134293.5 | D22: 161550.9 | E22: 180672.7 | F22: 204079.4 | G22: 252879.9 | H22: =H20+H13 -> 328355.06 | I22: =I20+I13 -> 412538.85 | J22: =J20+J13 -> 506154.32 | K22: =K20+K13 -> 608783.87 | L22: =L20+L13 -> 720875.88
A24: x | B24: LIABILITIES
B25: Current Liabilities
B26: Short-Term Debt | C26: =4142.8+164.6 -> 4307.4 | D26: =0+628.5 -> 628.5 | E26: =303.5 -> 303.5 | F26: =0+1825.5 -> 1825.5 | G26: =0+4364.9 -> 4364.9 | H26: =G26+Assumptions!C41 -> 4364.9 | I26: =H26+Assumptions!D41 -> 4364.9 | J26: =I26+Assumptions!E41 -> 4364.9 | K26: =J26+Assumptions!F41 -> 4364.9 | L26: =K26+Assumptions!G41 -> 4364.9
B27: Accounts Payable | C27: =1704.6+51.8+5253.9 -> 7010.3 | D27: =1785.9+53.4+6947.6 -> 8786.9 | E27: =1819.9+51.2+5600.4 -> 7471.5 | F27: =2220.2+43.5+5874.8 -> 8138.5 | G27: =2631.6+56.7+5665.6 -> 8353.9 | H27: =WC_Schedule!H8 -> 10366.24 | I27: =WC_Schedule!I8 -> 13061.463 | J27: =WC_Schedule!J8 -> 15993.035 | K27: =WC_Schedule!K8 -> 19191.643 | L27: =WC_Schedule!L8 -> 22032.006
B28: Accrued Liabilities | C28: =858+1316.7+5849.7 -> 8024.4 | D28: =1185.7+2009.4+9540.2 -> 12735.3 | E28: =1084.3+1656.3+9688.7 -> 12429.3 | F28: =1447.1+2161.4+13759 -> 17367.5 | G28: =2036.1+3294.7+12786.9 -> 18117.7 | H28: =WC_Schedule!H9 -> 21760.427 | I28: =WC_Schedule!I9 -> 25894.908 | J28: =WC_Schedule!J9 -> 30038.093 | K28: =WC_Schedule!K9 -> 34243.426 | L28: =WC_Schedule!L9 -> 38352.637
B29: Other Current Liabilities | C29: =24.6+0.3+5141.2+2829.7 -> 7995.8 | D29: =3.8+0+4641+5308.8 -> 9953.6 | E29: =4+892.7+5504.8+4184.7 -> 10586.2 | F29: =14.2+0+6722.2+5842.3 -> 12578.7 | G29: =98.3+0+9093.3+8502.8 -> 17694.4 | H29: =WC_Schedule!H11 -> 24825.035 | I29: =WC_Schedule!I11 -> 29541.791 | J29: =WC_Schedule!J11 -> 34268.478 | K29: =WC_Schedule!K11 -> 39066.065 | L29: =WC_Schedule!L11 -> 43753.992
B30: Total Current Liabilities | C30: 27337.9 | D30: 32104.3 | E30: 30790.5 | F30: 39910.2 | G30: 48530.9 | H30: =SUM(H26:H29) -> 61316.602 | I30: =SUM(I26:I29) -> 72863.062 | J30: =SUM(J26:J29) -> 84664.506 | K30: =SUM(K26:K29) -> 96866.033 | L30: =SUM(L26:L29) -> 108503.54
B32: Non-Current Liabilities
B33: Long-term Debt | C33: =21992.4+119.3 -> 22111.7 | D33: =27150.4+154.9 -> 27305.3 | E33: =29846.4+143.1 -> 29989.5 | F33: =28258.7+970.5 -> 29229.2 | G33: =27294.5+1269.8 -> 28564.3 | H33: =G33+Assumptions!C40 -> 28564.3 | I33: =H33+Assumptions!D40 -> 28564.3 | J33: =I33+Assumptions!E40 -> 28564.3 | K33: =J33+Assumptions!F40 -> 28564.3 | L33: =K33+Assumptions!G40 -> 28564.3
B34: Lease Liabilities | C34: 748.5 | D34: 968.6 | E34: 936.7 | F34: 877 | G34: 1007.2 | H34: =G34 -> 1007.2 | I34: =H34 -> 1007.2 | J34: =I34 -> 1007.2 | K34: =J34 -> 1007.2 | L34: =K34 -> 1007.2
B35: Deferred Tax Liabilities | C35: 67.6 | D35: 33.7 | E35: 1.9 | F35: 121.6 | G35: 124 | H35: =H22-H30-(H33+H34+H36)-H49 -> 124 | I35: =I22-I30-(I33+I34+I36)-I49 -> 124 | J35: =J22-J30-(J33+J34+J36)-J49 -> 124 | K35: =K22-K30-(K33+K34+K36)-K49 -> 124 | L35: =L22-L30-(L33+L34+L36)-L49 -> 124
B36: Other Non-Current Liabilities | C36: =397.9+24.8+6039.1 -> 6461.8 | D36: =303.3+29+5856.1 -> 6188.4 | E36: =302.3+30.2+5823.8 -> 6156.3 | F36: =231.2+25.8+3179 -> 3436 | G36: =191.6+24.3+2419.1 -> 2635 | H36: =G36 -> 2635 | I36: =H36 -> 2635 | J36: =I36 -> 2635 | K36: =J36 -> 2635 | L36: =K36 -> 2635
B37: Total Non-Current Liabilities | C37: 29389.6 | D37: 34496 | E37: 37084.4 | F37: 33663.8 | G37: 32330.5 | H37: =SUM(H33:H36) -> 32330.5 | I37: =SUM(I33:I36) -> 32330.5 | J37: =SUM(J33:J36) -> 32330.5 | K37: =SUM(K33:K36) -> 32330.5 | L37: =SUM(L33:L36) -> 32330.5
B39: Total Liabilities | C39: 56727.5 | D39: 66600.3 | E39: 67874.9 | F39: 73574 | G39: 80861.4 | H39: =H37+H30 -> 93647.102 | I39: =I37+I30 -> 105193.56 | J39: =J37+J30 -> 116995.01 | K39: =K37+K30 -> 129196.53 | L39: =L37+L30 -> 140834.04
B41: EQUITY
B42: Share Capital | C42: 9347.7 | D42: 8438.1 | E42: 8469 | F42: 7908.7 | G42: 8266.6 | H42: =G42 -> 8266.6 | I42: =H42 -> 8266.6 | J42: =I42 -> 8266.6 | K42: =J42 -> 8266.6 | L42: =K42 -> 8266.6
B43: Additional Paid-In Capital | C43: 2334.6 | D43: 2256.1 | E43: 2282.1 | F43: 2234.2 | G43: 2341.3 | H43: =G43 -> 2341.3 | I43: =H43 -> 2341.3 | J43: =I43 -> 2341.3 | K43: =J43 -> 2341.3 | L43: =K43 -> 2341.3
B44: Retained Earnings | C44: =11216.5+2137.9+54699 -> 68053.4 | D44: =10125.2+102.6+74213.8 -> 84441.6 | E44: =10161.5+0+92014.8 -> 102176.3 | F44: =9489.1+108625.4 -> 118114.5 | G44: =9918.6+2782.4+147928.4 -> 160629.4 | H44: =G44+IS!H34+CF!H27 -> 223318.86 | I44: =H44+IS!I34+CF!I27 -> 295956.19 | J44: =I44+IS!J34+CF!J27 -> 377770.22 | K44: =J44+IS!K34+CF!K27 -> 468198.23 | L44: =K44+IS!L34+CF!L27 -> 568652.75
B45: Accumulated Other Comprehensive Income (OCI) | C45: -2257 | D45: -667.2 | E45: -924.7 | F45: 1180.4 | G45: -531.6 | H45: =G45 -> -531.6 | I45: =H45 -> -531.6 | J45: =I45 -> -531.6 | K45: =J45 -> -531.6 | L45: =K45 -> -531.6
B46: Equity Attributable to Shareholders of the Parent | C46: 77478.7 | D46: 94468.6 | E46: 112002.7 | F46: 129437.8 | G46: 170705.7 | H46: =SUM(H42:H45) -> 233395.16 | I46: =SUM(I42:I45) -> 306032.49 | J46: =SUM(J42:J45) -> 387846.52 | K46: =SUM(K42:K45) -> 478274.53 | L46: =SUM(L42:L45) -> 578729.05
B47: Non-Controlling Interests | C47: 87.3 | D47: 482 | E47: 795.1 | F47: 1067.6 | G47: 1312.8 | H47: =G47 -> 1312.8 | I47: =H47 -> 1312.8 | J47: =I47 -> 1312.8 | K47: =J47 -> 1312.8 | L47: =K47 -> 1312.8
B49: Total Equity | C49: 77566 | D49: 94950.6 | E49: 112797.8 | F49: 130505.4 | G49: 172018.5 | H49: =H47+H46 -> 234707.96 | I49: =I47+I46 -> 307345.29 | J49: =J47+J46 -> 389159.32 | K49: =K47+K46 -> 479587.33 | L49: =L47+L46 -> 580041.85
...

Sheet CF
B2: CASH FLOW STATEMENT
B3: USD in Millions
C5: =D5-1 -> 2021 | D5: =E5-1 -> 2022 | E5: =F5-1 -> 2023 | F5: =G5-1 -> 2024 | G5: =H5-1 -> 2025 | H5: =_xlfn.NUMBERVALUE(ReadMe!$C$10) -> 2026 | I5: =H5+1 -> 2027 | J5: =I5+1 -> 2028 | K5: =J5+1 -> 2029 | L5: =K5+1 -> 2030
A6: x | B6: CASH FLOW FROM OPERATIONS (CFO)
B7: Net Income | C7: =IS!C34 -> 21372.8 | D7: =IS!D34 -> 32323.3 | E7: =IS!E34 -> 27793.2 | F7: =IS!F34 -> 35301.1 | G7: =IS!G34 -> 54036.5 | H7: =IS!H34 -> 83585.945 | I7: =IS!I34 -> 96849.778 | J7: =IS!J34 -> 109085.37 | ... L7: =IS!L34 -> 133939.35
B8: + Depreciation & Amortization | C8: =IS!C21 -> 15227 | D8: =IS!D21 -> 14228.9 | E8: =IS!E21 -> 17380.5 | F8: =IS!F21 -> 20213.4 | G8: =IS!G21 -> 21934.9 | H8: ='PP&E'!H8 -> 27393.142 | I8: ='PP&E'!I8 -> 34635.203 | J8: ='PP&E'!J8 -> 42540.179 | K8: ='PP&E'!K8 -> 51190.016 | L8: ='PP&E'!L8 -> 60350.334
B9: +/- Change in Accounts Receivable | C9: =WC_Schedule!C13 -> 0 | D9: =WC_Schedule!D13 -> -379.6 | E9: =WC_Schedule!E13 -> 933.1 | F9: =WC_Schedule!F13 -> -1700.6 | G9: =WC_Schedule!G13 -> -693.4 | H9: =WC_Schedule!H13 -> -5080.5193 | I9: =WC_Schedule!I13 -> -2673.6457 | J9: =WC_Schedule!J13 -> -2679.2744 | ... L9: =WC_Schedule!L13 -> -2657.3043
B10: +/- Change in Inventory | C10: =WC_Schedule!C14 -> 0 | D10: =WC_Schedule!D14 -> -235.3 | E10: =WC_Schedule!E14 -> -1000.7 | F10: =WC_Schedule!F14 -> -582 | G10: =WC_Schedule!G14 -> -405 | H10: =WC_Schedule!H14 -> -4690.6138 | I10: =WC_Schedule!I14 -> -3205.5604 | J10: =WC_Schedule!J14 -> -3095.455 | ... L10: =WC_Schedule!L14 -> -3495.8315
B11: +/- Change in Accounts Payable | C11: =WC_Schedule!C15 -> 0 | D11: =WC_Schedule!D15 -> 1776.6 | E11: =WC_Schedule!E15 -> -1315.4 | F11: =WC_Schedule!F15 -> 667 | G11: =WC_Schedule!G15 -> 215.4 | H11: =WC_Schedule!H15 -> 2012.3402 | I11: =WC_Schedule!I15 -> 2695.2225 | J11: =WC_Schedule!J15 -> 2931.5727 | ... L11: =WC_Schedule!L15 -> 2840.3631
B12: +/- Change in Accrued Liabilities | C12: =WC_Schedule!C16 -> 0 | D12: =WC_Schedule!D16 -> 4710.9 | E12: =WC_Schedule!E16 -> -306 | F12: =WC_Schedule!F16 -> 4938.2 | G12: =WC_Schedule!G16 -> 750.2 | H12: =WC_Schedule!H16 -> 3642.7269 | I12: =WC_Schedule!I16 -> 4134.4811 | J12: =WC_Schedule!J16 -> 4143.1853 | ... L12: =WC_Schedule!L16 -> 4109.2112
B13: +/- Change in Other Current Assets | C13: =WC_Schedule!C17 -> 0 | D13: =WC_Schedule!D17 -> -285.5 | E13: =WC_Schedule!E17 -> -479.1 | F13: =WC_Schedule!F17 -> -1500.8 | G13: =WC_Schedule!G17 -> -2441.7 | H13: =WC_Schedule!H17 -> -1162.3854 | I13: =WC_Schedule!I17 -> -893.70124 | J13: =WC_Schedule!J17 -> -529.71488 | ... L13: =WC_Schedule!L17 -> -161.65268
B14: +/- Change in Other Current Liabilities | C14: =WC_Schedule!C18 -> 0 | D14: =WC_Schedule!D18 -> 1957.8 | E14: =WC_Schedule!E18 -> 632.6 | F14: =WC_Schedule!F18 -> 1992.5 | G14: =WC_Schedule!G18 -> 5115.7 | H14: =WC_Schedule!H18 -> 7130.6346 | I14: =WC_Schedule!I18 -> 4716.7566 | J14: =WC_Schedule!J18 -> 4726.6866 | ... L14: =WC_Schedule!L18 -> 4687.9278
B15: Cash Flow from Operations (CFO) | C15: =C7+C8+C9+C10+C11+C12+C13+C14 -> 36599.8 | D15: =D7+D8+D9+D10+D11+D12+D13+D14 -> 54097.1 | E15: =E7+E8+E9+E10+E11+E12+E13+E14 -> 43638.2 | F15: =F7+F8+F9+F10+F11+F12+F13+F14 -> 59328.8 | G15: =G7+G8+G9+G10+G11+G12+G13+G14 -> 78512.6 | H15: =H7+H8+H9+H10+H11+H12+H13+H14 -> 112831.27 | I15: =I7+I8+I9+I10+I11+I12+I13+I14 -> 136258.53 | J15: =J7+J8+J9+J10+J11+J12+J13+J14 -> 157122.54 | ... L15: =L7+L8+L9+L10+L11+L12+L13+L14 -> 199612.4
A17: x | B17: CASH FLOW FROM INVESTING (CFI)
B18: - Capital Expenditures (CapEx) | C18: =-'PP&E'!C7 -> -15227 | D18: =-'PP&E'!D7 -> -30689.3 | E18: =-'PP&E'!E7 -> -29799.9 | F18: =-'PP&E'!F7 -> -18790 | G18: =-'PP&E'!G7 -> -40964.4 | H18: =-'PP&E'!H7 -> -61634.569 | I18: =-'PP&E'!I7 -> -65195.677 | J18: =-'PP&E'!J7 -> -68536.955 | ... L18: =-'PP&E'!L7 -> -75437.918
B19: + Purchases/Sales of Marketable Securities (Net) | C19: =Securities!C7+Securities!C17 -> 0 | D19: =Securities!D7+Securities!D17 -> 3741.1 | E19: =Securities!E7+Securities!E17 -> 2057.9 | F19: =Securities!F7+Securities!F17 -> 1864.8 | G19: =Securities!G7+Securities!G17 -> 1487.2 | H19: =Securities!H7+Securities!H17 -> 0 | I19: =Securities!I7+Securities!I17 -> 0 | J19: =Securities!J7+Securities!J17 -> 0 | ... L19: =Securities!L7+Securities!L17 -> 0
B20: + Other Investing Cash Flows | C20: 0 | D20: 0 | E20: 0 | F20: 0 | G20: 0
B21: + / - Other Cash Flow Adjustments (Balancing Item) | D21: =(D36-D35)-D15-(D18+D19+D20)-D30 -> -13856.2 | E21: =(E36-E35)-E15-(E18+E19+E20)-E30 -> -4598.8 | F21: =(F36-F35)-F15-(F18+F19+F20)-F30 -> -15124.9 | G21: =(G36-G35)-G15-(G18+G19+G20)-G30 -> -2553.8 | H21: 0 | I21: 0 | J21: 0 | K21: 0 | L21: 0
B22: Cash Flow from Investing (CFI) | C22: =C18+C19+C20+C21 -> -15227 | D22: =D18+D19+D20+D21 -> -40804.4 | E22: =E18+E19+E20+E21 -> -32340.8 | F22: =F18+F19+F20+F21 -> -32050.1 | G22: =G18+G19+G20+G21 -> -42031 | H22: =H18+H19+H20+H21 -> -61634.569 | I22: =I18+I19+I20+I21 -> -65195.677 | J22: =J18+J19+J20+J21 -> -68536.955 | ... L22: =L18+L19+L20+L21 -> -75437.918
A24: x | B24: CASH FLOW FROM FINANCING (CFF)
B25: + Short-Term Debt Issued / (Repaid) | C25: =BS!C26-BS!C26 -> 0 | D25: =BS!D26-BS!C26 -> -3678.9 | E25: =BS!E26-BS!D26 -> -325 | F25: =BS!F26-BS!E26 -> 1522 | G25: =BS!G26-BS!F26 -> 2539.4 | H25: =Assumptions!C41 -> 0 | I25: =Assumptions!D41 -> 0 | J25: =Assumptions!E41 -> 0 | K25: =Assumptions!F41 -> 0 | L25: =Assumptions!G41 -> 0
B26: + Long-Term Debt Issued / (Repaid) | C26: =BS!C33-BS!C33 -> 0 | D26: =BS!D33-BS!C33 -> 5193.6 | E26: =BS!E33-BS!D33 -> 2684.2 | F26: =BS!F33-BS!E33 -> -760.3 | G26: =BS!G33-BS!F33 -> -664.9 | H26: =Assumptions!C40 -> 0 | I26: =Assumptions!D40 -> 0 | J26: =Assumptions!E40 -> 0 | K26: =Assumptions!F40 -> 0 | L26: =Assumptions!G40 -> 0
B27: - Dividends Paid | C27: -9581.3 | D27: -9282 | E27: -9527.2 | F27: -11072.1 | G27: -14879.8 | H27: =-IS!H34*Assumptions!C42 -> -20896.486 | I27: =-IS!I34*Assumptions!D42 -> -24212.445 | J27: =-IS!J34*Assumptions!E42 -> -27271.341 | K27: =-IS!K34*Assumptions!F42 -> -30142.673 | L27: =-IS!L34*Assumptions!G42 -> -33484.837
B28: - Lease Payments | C28: =-(BS!C34-BS!C34) -> 0 | D28: =-(BS!D34-BS!C34) -> -220.1 | E28: =-(BS!E34-BS!D34) -> 31.9 | F28: =-(BS!F34-BS!E34) -> 59.7 | G28: =-(BS!G34-BS!F34) -> -130.2
B29: + Other Financing Cash Flows | C29: 0 | D29: 0 | E29: 0 | F29: 0 | G29: 0
B30: Cash Flow from Financing (CFF) | C30: =C25+C26+C27+C28+C29 -> -9581.3 | D30: =D25+D26+D27+D28+D29 -> -7987.4 | E30: =E25+E26+E27+E28+E29 -> -7136.1 | F30: =F25+F26+F27+F28+F29 -> -10250.7 | G30: =G25+G26+G27+G28+G29 -> -13135.5 | H30: =H25+H26+H27+H28+H29 -> -20896.486 | I30: =I25+I26+I27+I28+I29 -> -24212.445 | J30: =J25+J26+J27+J28+J29 -> -27271.341 | ... L30: =L25+L26+L27+L28+L29 -> -33484.837
B32: NET CHANGE IN CASH | C32: =C15+C22+C30 -> 11791.5 | D32: =D15+D22+D30 -> 5305.3 | E32: =E15+E22+E30 -> 4161.3 | F32: =F15+F22+F30 -> 17028 | G32: =G15+G22+G30 -> 23346.1 | H32: =H15+H22+H30 -> 30300.215 | I32: =I15+I22+I30 -> 46850.413 | J32: =J15+J22+J30 -> 61314.248 | ... L32: =L15+L22+L30 -> 90689.641
B33: = CFO + CFI + CFF
B35: BEGINNING CASH BALANCE | C35: =C36 -> 38391.9 | D35: =C36 -> 38391.9 | E35: =D36 -> 43697.2 | F35: =E36 -> 47858.5 | G35: =F36 -> 64886.5 | H35: =G36 -> 88232.6 | I35: =H36 -> 118532.81 | J35: =I36 -> 165383.23 | K35: =J36 -> 226697.48 | L35: =K36 -> 300990.02
A36: x | B36: ENDING CASH BALANCE | C36: =BS!C8 -> 38391.9 | D36: =BS!D8 -> 43697.2 | E36: =BS!E8 -> 47858.5 | F36: =BS!F8 -> 64886.5 | G36: =BS!G8 -> 88232.6 | H36: =H35+H32 -> 118532.81 | I36: =I35+I32 -> 165383.23 | J36: =J35+J32 -> 226697.48 | K36: =K35+K32 -> 300990.02 | L36: =L35+L32 -> 391679.66

Sheet PP&E
B2: PP&E ROLLFORWARD
B3: USD in Millions
C5: =D5-1 -> 2021 | D5: =E5-1 -> 2022 | E5: =F5-1 -> 2023 | F5: =G5-1 -> 2024 | G5: =H5-1 -> 2025 | H5: =_xlfn.NUMBERVALUE(ReadMe!$C$10) -> 2026 | I5: =H5+1 -> 2027 | J5: =I5+1 -> 2028 | K5: =J5+1 -> 2029 | L5: =K5+1 -> 2030
B6: Beginning Net PP&E | C6: =C10 -> 71201.1 | D6: =C10 -> 71201.1 | E6: =D10 -> 87661.5 | F6: =E10 -> 100080.9 | G6: =F10 -> 98657.5 | H6: =G10 -> 117687 | I6: =H10 -> 151928.43 | J6: =I10 -> 182488.9 | K6: =J10 -> 208485.68 | L6: =K10 -> 230039.37
B7: + Capital Expenditures (CapEx) | C7: =C10-C6+C8-C9 -> 15227 | D7: =D10-D6+D8-D9 -> 30689.3 | E7: =E10-E6+E8-E9 -> 29799.9 | F7: =F10-F6+F8-F9 -> 18790 | G7: =G10-G6+G8-G9 -> 40964.4 | H7: =IS!H6*Assumptions!C29 -> 61634.569 | I7: =IS!I6*Assumptions!D29 -> 65195.677 | J7: =IS!J6*Assumptions!E29 -> 68536.955 | K7: =IS!K6*Assumptions!F29 -> 72743.707 | L7: =IS!L6*Assumptions!G29 -> 75437.918
B8: - Depreciation & Amortization | C8: =IS!C21 -> 15227 | D8: =IS!D21 -> 14228.9 | E8: =IS!E21 -> 17380.5 | F8: =IS!F21 -> 20213.4 | G8: =IS!G21 -> 21934.9 | H8: =IS!H6*Assumptions!C30 -> 27393.142 | I8: =IS!I6*Assumptions!D30 -> 34635.203 | J8: =IS!J6*Assumptions!E30 -> 42540.179 | K8: =IS!K6*Assumptions!F30 -> 51190.016 | L8: =IS!L6*Assumptions!G30 -> 60350.334
B9: +/- Other PP&E Adjustments | C9: 0 | D9: 0 | E9: 0 | F9: 0 | G9: 0
B10: Ending Net PP&E | C10: =BS!C16 -> 71201.1 | D10: =BS!D16 -> 87661.5 | E10: =BS!E16 -> 100080.9 | F10: =BS!F16 -> 98657.5 | G10: =BS!G16 -> 117687 | H10: =H6+H7-H8+H9 -> 151928.43 | I10: =I6+I7-I8+I9 -> 182488.9 | J10: =J6+J7-J8+J9 -> 208485.68 | K10: =K6+K7-K8+K9 -> 230039.37 | L10: =L6+L7-L8+L9 -> 245126.95
B11: match Balance Sheet | C11: =C10=BS!C16 -> TRUE | D11: =D10=BS!D16 -> TRUE | E11: =E10=BS!E16 -> TRUE | F11: =F10=BS!F16 -> TRUE | G11: =G10=BS!G16 -> TRUE

Sheet WC_Schedule
B2: WORKING CAPITAL SCHEDULE
B3: USD in Millions
C5: =D5-1 -> 2021 | D5: =E5-1 -> 2022 | E5: =F5-1 -> 2023 | F5: =G5-1 -> 2024 | G5: =H5-1 -> 2025 | H5: =_xlfn.NUMBERVALUE(ReadMe!$C$10) -> 2026 | I5: =H5+1 -> 2027 | J5: =I5+1 -> 2028 | K5: =J5+1 -> 2029 | L5: =K5+1 -> 2030
B6: Accounts Receivable (AR) | C6: =BS!C10 -> 7150.8 | D6: =BS!D10 -> 7530.4 | E6: =BS!E10 -> 6597.3 | F6: =BS!F10 -> 8297.9 | G6: =BS!G10 -> 8991.3 | H6: =IS!H6*Assumptions!C20/365 -> 14071.819 | I6: =IS!I6*Assumptions!D20/365 -> 16745.465 | J6: =IS!J6*Assumptions!E20/365 -> 19424.739 | K6: =IS!K6*Assumptions!F20/365 -> 22144.203 | L6: =IS!L6*Assumptions!G20/365 -> 24801.507
B7: Inventory | C7: =BS!C11 -> 6961.2 | D7: =BS!D11 -> 7196.5 | E7: =BS!E11 -> 8197.2 | F7: =BS!F11 -> 8779.2 | G7: =BS!G11 -> 9184.2 | H7: =IS!H8*Assumptions!C21/365 -> 13874.814 | I7: =IS!I8*Assumptions!D21/365 -> 17080.374 | J7: =IS!J8*Assumptions!E21/365 -> 20175.829 | K7: =IS!K8*Assumptions!F21/365 -> 23620.483 | L7: =IS!L8*Assumptions!G21/365 -> 27116.315
B8: Accounts Payable (AP) | C8: =BS!C27 -> 7010.3 | D8: =BS!D27 -> 8786.9 | E8: =BS!E27 -> 7471.5 | F8: =BS!F27 -> 8138.5 | G8: =BS!G27 -> 8353.9 | H8: =IS!H8*Assumptions!C22/365 -> 10366.24 | I8: =IS!I8*Assumptions!D22/365 -> 13061.463 | J8: =IS!J8*Assumptions!E22/365 -> 15993.035 | K8: =IS!K8*Assumptions!F22/365 -> 19191.643 | L8: =IS!L8*Assumptions!G22/365 -> 22032.006
B9: Accrued Liabilities | C9: =BS!C28 -> 8024.4 | D9: =BS!D28 -> 12735.3 | E9: =BS!E28 -> 12429.3 | F9: =BS!F28 -> 17367.5 | G9: =BS!G28 -> 18117.7 | H9: =(IS!H12+IS!H15)*Assumptions!C25 -> 21760.427 | I9: =(IS!I12+IS!I15)*Assumptions!D25 -> 25894.908 | J9: =(IS!J12+IS!J15)*Assumptions!E25 -> 30038.093 | K9: =(IS!K12+IS!K15)*Assumptions!F25 -> 34243.426 | L9: =(IS!L12+IS!L15)*Assumptions!G25 -> 38352.637
B10: Other Current Assets | C10: =BS!C12 -> 978.8 | D10: =BS!D12 -> 1264.3 | E10: =BS!E12 -> 1743.4 | F10: =BS!F12 -> 3244.2 | G10: =BS!G12 -> 5685.9 | H10: =IS!H6*Assumptions!C23 -> 6848.2854 | I10: =IS!I6*Assumptions!D23 -> 7741.9866 | J10: =IS!J6*Assumptions!E23 -> 8271.7015 | K10: =IS!K6*Assumptions!F23 -> 8890.8975 | L10: =IS!L6*Assumptions!G23 -> 9052.5501
B11: Other Current Liabilities | C11: =BS!C29 -> 7995.8 | D11: =BS!D29 -> 9953.6 | E11: =BS!E29 -> 10586.2 | F11: =BS!F29 -> 12578.7 | G11: =BS!G29 -> 17694.4 | H11: =IS!H6*Assumptions!C24 -> 24825.035 | I11: =IS!I6*Assumptions!D24 -> 29541.791 | J11: =IS!J6*Assumptions!E24 -> 34268.478 | K11: =IS!K6*Assumptions!F24 -> 39066.065 | L11: =IS!L6*Assumptions!G24 -> 43753.992
B13: Change in Accounts Receivable | C13: =C6-C6 -> 0 | D13: =C6-D6 -> -379.6 | E13: =D6-E6 -> 933.1 | F13: =E6-F6 -> -1700.6 | G13: =F6-G6 -> -693.4 | H13: =G6-H6 -> -5080.5193 | I13: =H6-I6 -> -2673.6457 | J13: =I6-J6 -> -2679.2744 | K13: =J6-K6 -> -2719.4635 | L13: =K6-L6 -> -2657.3043
B14: Change in Inventory | C14: =C7-C7 -> 0 | D14: =C7-D7 -> -235.3 | E14: =D7-E7 -> -1000.7 | F14: =E7-F7 -> -582 | G14: =F7-G7 -> -405 | H14: =G7-H7 -> -4690.6138 | I14: =H7-I7 -> -3205.5604 | J14: =I7-J7 -> -3095.455 | K14: =J7-K7 -> -3444.6538 | L14: =K7-L7 -> -3495.8315
B15: Change in Accounts Payable | C15: =C8-C8 -> 0 | D15: =D8-C8 -> 1776.6 | E15: =E8-D8 -> -1315.4 | F15: =F8-E8 -> 667 | G15: =G8-F8 -> 215.4 | H15: =H8-G8 -> 2012.3402 | I15: =I8-H8 -> 2695.2225 | J15: =J8-I8 -> 2931.5727 | K15: =K8-J8 -> 3198.6071 | L15: =L8-K8 -> 2840.3631
B16: Change in Accrued Liabilities | C16: =C9-C9 -> 0 | D16: =D9-C9 -> 4710.9 | E16: =E9-D9 -> -306 | F16: =F9-E9 -> 4938.2 | G16: =G9-F9 -> 750.2 | H16: =H9-G9 -> 3642.7269 | I16: =I9-H9 -> 4134.4811 | J16: =J9-I9 -> 4143.1853 | K16: =K9-J9 -> 4205.3331 | L16: =L9-K9 -> 4109.2112
B17: Change in Other Current Assets | C17: =C10-C10 -> 0 | D17: =C10-D10 -> -285.5 | E17: =D10-E10 -> -479.1 | F17: =E10-F10 -> -1500.8 | G17: =F10-G10 -> -2441.7 | H17: =G10-H10 -> -1162.3854 | I17: =H10-I10 -> -893.70124 | J17: =I10-J10 -> -529.71488 | K17: =J10-K10 -> -619.19594 | L17: =K10-L10 -> -161.65268
B18: Change in Other Current Liabilities | C18: =C11-C11 -> 0 | D18: =D11-C11 -> 1957.8 | E18: =E11-D11 -> 632.6 | F18: =F11-E11 -> 1992.5 | G18: =G11-F11 -> 5115.7 | H18: =H11-G11 -> 7130.6346 | I18: =I11-H11 -> 4716.7566 | J18: =J11-I11 -> 4726.6866 | K18: =K11-J11 -> 4797.5869 | L18: =L11-K11 -> 4687.9278

Sheet Securities
B2: SECURITIES ROLLFORWARD (Short-Term)
B3: USD in Millions
C5: =D5-1 -> 2021 | D5: =E5-1 -> 2022 | E5: =F5-1 -> 2023 | F5: =G5-1 -> 2024 | G5: =H5-1 -> 2025 | H5: =_xlfn.NUMBERVALUE(ReadMe!$C$10) -> 2026 | I5: =H5+1 -> 2027 | J5: =I5+1 -> 2028 | K5: =J5+1 -> 2029 | L5: =K5+1 -> 2030
B6: Beginning Balance | C6: =C8 -> 4450.7 | D6: =C8 -> 4450.7 | E6: =D8 -> 7115.9 | F6: =E8 -> 7257.2 | G6: =F8 -> 8978 | H6: =G8 -> 9586.9 | I6: =H8 -> 9586.9 | J6: =I8 -> 9586.9 | K6: =J8 -> 9586.9 | L6: =K8 -> 9586.9
B7: + Net Purchases / Sales | C7: =C8-C6 -> 0 | D7: =D8-D6 -> 2665.2 | E7: =E8-E6 -> 141.3 | F7: =F8-F6 -> 1720.8 | G7: =G8-G6 -> 608.9 | H7: =Assumptions!C34 -> 0 | I7: =Assumptions!D34 -> 0 | J7: =Assumptions!E34 -> 0 | K7: =Assumptions!F34 -> 0 | L7: =Assumptions!G34 -> 0
B8: Ending Balance | C8: =BS!C9 -> 4450.7 | D8: =BS!D9 -> 7115.9 | E8: =BS!E9 -> 7257.2 | F8: =BS!F9 -> 8978 | G8: =BS!G9 -> 9586.9 | H8: =H6+H7 -> 9586.9 | I8: =I6+I7 -> 9586.9 | J8: =J6+J7 -> 9586.9 | K8: =K6+K7 -> 9586.9 | L8: =L6+L7 -> 9586.9
B12: SECURITIES ROLLFORWARD (Long-Term)
B13: USD in Millions
C15: =D15-1 -> 2021 | D15: =E15-1 -> 2022 | E15: =F15-1 -> 2023 | F15: =G15-1 -> 2024 | G15: =H15-1 -> 2025 | H15: =_xlfn.NUMBERVALUE(ReadMe!$C$10) -> 2026 | I15: =H15+1 -> 2027 | J15: =I15+1 -> 2028 | K15: =J15+1 -> 2029 | L15: =K15+1 -> 2030
B16: Beginning Balance | C16: =C18 -> 267.6 | D16: =C18 -> 267.6 | E16: =D18 -> 1343.5 | F16: =E18 -> 3260.1 | G16: =F18 -> 3404.1 | H16: =G18 -> 4282.4 | I16: =H18 -> 4282.4 | J16: =I18 -> 4282.4 | K16: =J18 -> 4282.4 | L16: =K18 -> 4282.4
B17: + Net Purchases / Sales | C17: =C18-C16 -> 0 | D17: =D18-D16 -> 1075.9 | E17: =E18-E16 -> 1916.6 | F17: =F18-F16 -> 144 | G17: =G18-G16 -> 878.3 | H17: =Assumptions!C35 -> 0 | I17: =Assumptions!D35 -> 0 | J17: =Assumptions!E35 -> 0 | K17: =Assumptions!F35 -> 0 | L17: =Assumptions!G35 -> 0
B18: Ending Balance | C18: =BS!C18 -> 267.6 | D18: =BS!D18 -> 1343.5 | E18: =BS!E18 -> 3260.1 | F18: =BS!F18 -> 3404.1 | G18: =BS!G18 -> 4282.4 | H18: =H16+H17 -> 4282.4 | I18: =I16+I17 -> 4282.4 | J18: =J16+J17 -> 4282.4 | K18: =K16+K17 -> 4282.4 | L18: =L16+L17 -> 4282.4

Sheet DCF
B2: DCF
B3: USD in Millions
A6: x | B6: INPUTS
B7: Risk-free rate | C7: =Assumptions!C53 -> 0.047
B8: Equity risk premium | C8: =Assumptions!C54 -> 0.043
B9: Beta | C9: =Assumptions!C55 -> 1.26
B10: Cost of Equity | C10: =C7+C9*C8 -> 0.10118
B11: Cost of Debt | C11: =Assumptions!C56 -> 0.053
B12: Tax rate | C12: =Assumptions!C48 -> 0.2
B13: After-tax CoD | C13: =C11*(1-C12) -> 0.0424
B14: Equity weight | C14: =Assumptions!D57 -> 0.98
B15: Debt weight | C15: =Assumptions!C57 -> 0.02
B16: WACC | C16: =IF(Sensitivity!$C$6="", C14*C10+C15*C11*(1-C12),Sensitivity!$C$6) -> 0.1000044
B17: Terminal growth | C17: =IF(Sensitivity!$C$7="", Assumptions!C58,Sensitivity!$C$7) -> 0.03
A20: x | B20: FCFF FORECAST | C20: =_xlfn.NUMBERVALUE(ReadMe!$C$10) -> 2026 | D20: =C20+1 -> 2027 | E20: =D20+1 -> 2028 | F20: =E20+1 -> 2029 | G20: =F20+1 -> 2030
B22: EBIT | C22: =IS!H18 -> 98957.724 | D22: =IS!I18 -> 113684.96 | E22: =IS!J18 -> 127147.87 | F22: =IS!K18 -> 139560.15 | G22: =IS!L18 -> 153289.85
B23: -Taxes | C23: =C22*$C$12 -> 19791.545 | D23: =D22*$C$12 -> 22736.992 | E23: =E22*$C$12 -> 25429.574 | F23: =F22*$C$12 -> 27912.03 | G23: =G22*$C$12 -> 30657.97
B24: NOPAT | C24: =C22-C23 -> 79166.179 | D24: =D22-D23 -> 90947.969 | E24: =E22-E23 -> 101718.3 | F24: =F22-F23 -> 111648.12 | G24: =G22-G23 -> 122631.88
B25: + D&A | C25: ='PP&E'!H8 -> 27393.142 | D25: ='PP&E'!I8 -> 34635.203 | E25: ='PP&E'!J8 -> 42540.179 | F25: ='PP&E'!K8 -> 51190.016 | G25: ='PP&E'!L8 -> 60350.334
B26: - CapEx | C26: =-'PP&E'!H7 -> -61634.569 | D26: =-'PP&E'!I7 -> -65195.677 | E26: =-'PP&E'!J7 -> -68536.955 | F26: =-'PP&E'!K7 -> -72743.707 | G26: =-'PP&E'!L7 -> -75437.918
B27: -Change in NWC | C27: =SUM(WC_Schedule!H13:H18) -> 1852.1831 | D27: =SUM(WC_Schedule!I13:I18) -> 4773.5528 | E27: =SUM(WC_Schedule!J13:J18) -> 5497.0003 | F27: =SUM(WC_Schedule!K13:K18) -> 5418.2138 | G27: =SUM(WC_Schedule!L13:L18) -> 5322.7135
B28: = FCFF | C28: =SUM(C24:C27) -> 46776.935 | D28: =SUM(D24:D27) -> 65161.049 | E28: =SUM(E24:E27) -> 81218.519 | F28: =SUM(F24:F27) -> 95512.641 | G28: =SUM(G24:G27) -> 112867.01
A31: x | B31: DISCOUNT FACTORS | C31: =_xlfn.NUMBERVALUE(ReadMe!$C$10) -> 2026 | D31: =C31+1 -> 2027 | E31: =D31+1 -> 2028 | F31: =E31+1 -> 2029 | G31: =F31+1 -> 2030
B33: Discount factor | C33: =1/(1+$C$16)^1 -> 0.90908727 | D33: =1/(1+$C$16)^2 -> 0.82643967 | E33: =1/(1+$C$16)^3 -> 0.75130579 | F33: =1/(1+$C$16)^4 -> 0.68300253 | G33: =1/(1+$C$16)^5 -> 0.6209089
B34: PV of FCFF | C34: =C28*C33 -> 42524.317 | D34: =D28*D33 -> 53851.675 | E34: =E28*E33 -> 61019.943 | F34: =F28*F33 -> 65235.375 | G34: =G28*G33 -> 70080.131
A37: x | B37: TERMINAL VALUE
B39: Terminal FCFF | C39: =G28*(1+C17) -> 116253.02
B40: Terminal Value | C40: =C39/(C16-C17) -> 1660653
B41: PV of TV | C41: =C40/(1+C16)^5 -> 1031114.3
A44: x | B44: ENTERPRISE VALUE
B46: Enterprise value (DCF) | C46: =SUM(C34:G34)+C41 -> 1323825.7
B47: + Cash | C47: =BS!G8 -> 88232.6
B48: + Short-term securities | C48: =BS!G9 -> 9586.9
B49: + Long-term securities | C49: =BS!G18 -> 4282.4
B50: - Debt | C50: =-(BS!G26+BS!G33) -> -32929.2
B51: - Lease liabilities | C51: =-BS!G34 -> -1007.2
B52: - Minority interests | C52: =-BS!G47 -> -1312.8
B53: = Equity value | C53: =SUM(C46:C52) -> 1390678.4
B54: Shares outstanding (in Mio.) | C54: =IS!H37 -> 25932.7
B55: Fair value per share | C55: =C53/C54 -> 53.626441

Sheet Comps
B2: COMPS
A5: x | B5: COMPANY OVERVIEW & PRICE DATA
B7: Company | C7: Ticker | D7: Country | E7: Share Price | F7: Market Cap (in bln) | G7: Net Debt (in bln) | H7: Enterprise Value (in bln) | I7: Currency
B8: NVIDIA | C8: NVDA | D8: US | E8: 225.16 | F8: 5270 | G8: =12.81-53.17 -> -40.36 | H8: 5200 | I8: USD
B9: AMD | C9: AMD | D9: US | E9: 514.39 | F9: 839.73 | G9: =4.28-13.11 -> -8.83 | H9: 830.89 | I9: USD
B10: Intel | C10: INTC | D10: US | E10: 102.5 | F10: 491.89 | G10: =50.54-29.73 -> 20.81 | H10: 512.7 | I10: USD
B11: Broadcom | C11: AVGO | D11: US | E11: 392.99 | F11: 2010 | G11: =64.91-19.63 -> 45.28 | H11: 2050 | I11: USD
B12: Qualcomm | C12: QCOM | D12: US | E12: 164.42 | F12: 170.28 | G12: =15.27-8.3 -> 6.97 | H12: 177.24 | I12: USD
B13: TSMC ( ADS) | E13: 426.35
A16: x | B16: OPERATING METRICS & ESTIMATES
B18: Company | C18: Fiscal Year | D18: Revenue (LTM) (in bln) | E18: Revenue (FY1E) (in bln) | F18: EBITDA (LTM) (in bln) | G18: EBITDA (FY1E) | H18: EPS (FY1E)
B19: NVIDIA | C19: 2027 | D19: 253.49 | E19: 393.85 | F19: 165.51 | G19: =E19*(F19/D19) -> 257.15458 | H19: 9
B20: AMD | C20: 2026 | D20: 41.31 | E20: 50.81 | F20: 9.56 | G20: =E20*(F20/D20) -> 11.758499 | H20: 7.56
B21: Intel | C21: 2026 | D21: 57.03 | E21: 63.05 | F21: 16.84 | G21: =E21*(F21/D21) -> 18.617605 | H21: 1.33
B22: Broadcom | C22: 2026 | D22: 75.46 | E22: 106.04 | F22: 42.08 | G22: =E22*(F22/D22) -> 59.132828 | H22: 11.63
B23: Qualcomm | C23: 2026 | D23: 44.07 | E23: 42.96 | F23: 12 | G23: =E23*(F23/D23) -> 11.697754 | H23: 10.53
A26: x | B26: MULTIPLE TABLE
B28: Company | C28: P/E (FY1E) | D28: EV / EBITDA (FY1E) | E28: EV / EBIT (FY1E) | F28: EV / Sales (FY1E) | G28: Price / Book | H28: Gross Margin
B29: NVIDIA | C29: 24.81 | D29: =H8/G19 -> 20.221301 | E29: =H8/((162.285/253.491)*E19) -> 20.623229 | F29: =H8/E19 -> 13.202996 | G29: 26.96 | H29: =187.952/253.491 -> 0.74145433
B30: AMD | C30: 65.36 | D30: =H9/G20 -> 70.66293 | E30: =H9/((6.488/41.305)*E20) -> 104.10848 | F30: =H9/E20 -> 16.352883 | G30: 11.73 | H30: =21.976/41.305 -> 0.53204213
B31: Intel | C31: 76.92 | D31: =H10/G21 -> 27.538451 | E31: =H10/((4.308/57.032)*E21) -> 107.65176 | F31: =H10/E21 -> 8.1316416 | G31: 5.62 | H31: =22.017/57.032 -> 0.38604643
B32: Broadcom | C32: 22.62 | D32: =H11/G22 -> 34.667715 | E32: =H11/((33.253/75.465)*E22) -> 43.873157 | F32: =H11/E22 -> 19.332327 | G32: 22.92 | H32: =51.524/75.465 -> 0.68275359
B33: Qualcomm | C33: 15.58 | D33: =H12/G23 -> 15.151627 | E33: =H12/((10.259/44.069)*E23) -> 17.722527 | F33: =H12/E23 -> 4.1256983 | G33: 6.16 | H33: =23.897/44.069 -> 0.54226327
A36: x | B36: PEER MEDIANS
B38: Metric | C38: Peer Median | D38: TSMC Metric | E38: Implied EV (in Mio.) | F38: Net Debt (in Mio.) | G38: Implied EqV (in Mio.) | H38: Fair Value per common Share
B39: P/E (NTM) | C39: =MEDIAN(C29:C33) -> 24.81 | D39: =IS!H40 -> 3.2231871 | H39: =C39*D39 -> 79.967273
B40: EV / EBITDA (FY1E) | C40: =MEDIAN(D29:D33) -> 27.538451 | D40: =IS!H23 -> 126350.87 | E40: =C40*D40 -> 3479507.1 | F40: =(BS!$G$26+BS!$G$33)-(BS!$G$8+BS!$G$9+BS!$G$18) -> -69172.7 | G40: =E40-F40 -> 3548679.8 | H40: =G40/IS!H37 -> 136.8419
B41: EV / EBIT (FY1E) | C41: =MEDIAN(E29:E33) -> 43.873157 | D41: =IS!H18 -> 98957.724 | E41: =C41*D41 -> 4341587.8 | F41: =(BS!$G$26+BS!$G$33)-(BS!$G$8+BS!$G$9+BS!$G$18) -> -69172.7 | G41: =E41-F41 -> 4410760.5 | H41: =G41/IS!H37 -> 170.08489
B42: EV / Sales (FY1E) | C42: =MEDIAN(F29:F33) -> 13.202996 | D42: =IS!H6 -> 171207.13 | E42: =D42*C42 -> 2260447.1 | F42: =(BS!$G$26+BS!$G$33)-(BS!$G$8+BS!$G$9+BS!$G$18) -> -69172.7 | G42: =E42-F42 -> 2329619.8 | H42: =G42/IS!H37 -> 89.833293
B43: Price / Book | C43: =MEDIAN(G29:G33) -> 11.73 | D43: =(E13/5)/(BS!G49/IS!G37) -> 12.854904 | G43: =C43*BS!G49 -> 2017777 | H43: =G43/IS!H37 -> 77.808211
B44: Gross Margin | C44: =MEDIAN(H29:H33) -> 0.54226327
A47: x | B47: IMPLICIT TSMC VALUATION
B49: Multiple Method | C49: Implied Share Price
B50: Forward P/E | C50: =H39 -> 79.967273
B51: EV / EBITDA (FY1E) | C51: =H40 -> 136.8419
B52: EV / EBIT (FY1E) | C52: =H41 -> 170.08489
B53: EV / Sales (FY1E) | C53: =H42 -> 89.833293
B54: Price / Book | C54: =H43 -> 77.808211
B56: Median Implied Price | C56: =MEDIAN(C50:C54) -> 89.833293
B57: Mean Implied Price | C57: =AVERAGE(C50:C54) -> 110.90711

Sheet Sensitivity
B2: SENSITIVITY ANALYSIS
A5: x | B5: DCF SENSITIVITY (WACC x Terminal Growth)
B6: WACC_input
B7: G_input
C10: =DCF!$C$55 -> 53.626441 | D10: 0.07 | E10: 0.08 | F10: 0.09 | G10: 0.1 | H10: 0.11 | I10: 0.12
C11: 0.01 | D11: 67.163978 | E11: 57.296773 | F11: 49.91629 | G11: 44.192793 | H11: 39.628485 | I11: 35.90662
C12: 0.02 | D12: 78.231819 | E12: 64.913615 | F12: 55.422151 | G12: 48.321519 | H12: 42.814038 | I12: 38.421136
C13: 0.03 | D13: 94.833581 | E13: 75.577195 | F13: 62.763299 | G13: 53.629881 | H13: 46.79598 | I13: 41.494435
C14: 0.04 | D14: 122.50318 | E14: 91.572564 | F14: 73.040907 | G14: 60.707697 | H14: 51.915619 | I14: 45.336057
C15: 0.05 | D15: 177.84239 | E15: 118.23151 | F15: 88.457318 | G15: 70.616639 | H15: 58.741804 | I15: 50.275286
A18: x | B18: MULTIPLE SENSITIVITY (EV/EBITDA x EBITDA)
B19: Multiple_input
B20: EBITDA_input
B21: Fair Value per share | C21: =($C$19*$C$20-Comps!$F$40)/IS!$H$37 -> 2.6673929
C23: =$C$21 -> 2.6673929 | D23: 20 | E23: 22.5 | F23: 25 | G23: 27.5 | H23: 30 | I23: 32.5 | J23: 35
B24: 0.8 | C24: =0.8*IS!$H$23 -> 101080.69 | D24: 80.623558 | E24: 90.368079 | F24: 100.1126 | G24: 109.85712 | H24: 119.60164 | I24: 129.34616 | J24: 139.09068
B25: 0.9 | C25: =0.9*IS!$H$23 -> 113715.78 | D25: 90.368079 | E25: 101.33066 | F25: 112.29325 | G25: 123.25584 | H25: 134.21842 | I25: 145.18101 | J25: 156.14359
B26: 1 | C26: =IS!$H$23 -> 126350.87 | D26: 100.1126 | E26: 112.29325 | F26: 124.4739 | G26: 136.65455 | H26: 148.8352 | I26: 161.01585 | J26: 173.1965
B27: 1.1 | C27: =1.1*IS!$H$23 -> 138985.95 | D27: 109.85712 | E27: 123.25584 | F27: 136.65455 | G27: 150.05327 | H27: 163.45198 | I27: 176.8507 | J27: 190.24942
B28: 1.2 | C28: =1.2*IS!$H$23 -> 151621.04 | D28: 119.60164 | E28: 134.21842 | F28: 148.8352 | G28: 163.45198 | H28: 178.06877 | I28: 192.68555 | J28: 207.30233

Sheet Valuation_Summary
B2: VALUATION SUMMARY
A5: x | B5: OVERVIEW OF VALUATION METHODS
B7: Method | C7: Value per Share
B8: DCF | C8: =DCF!C55 -> 53.626441
B9: P/E (NTM) | C9: =Comps!C50 -> 79.967273
B10: EV / EBITDA (NTM) | C10: =Comps!C51 -> 136.8419
B11: EV / EBIT (NTM) | C11: =Comps!C52 -> 170.08489
B12: EV / Sales (NTM) | C12: =Comps!C53 -> 89.833293
B13: Price / Book | C13: =Comps!C54 -> 77.808211
A16: x | B16: FINAL BLENDED VALUATION
B18: Method | C18: Implied Price | D18: Weight | E18: Weighted Value
B19: DCF | C19: =C8 -> 53.626441 | D19: =Assumptions!C64 -> 0.45 | E19: =C19*D19 -> 24.131898
B20: P/E (NTM) | C20: =C9 -> 79.967273 | D20: =Assumptions!C65 -> 0.3 | E20: =C20*D20 -> 23.990182
B21: EV / EBITDA (NTM) | C21: =C10 -> 136.8419 | D21: =Assumptions!C66 -> 0.15 | E21: =C21*D21 -> 20.526284
B22: EV / EBIT (NTM) | C22: =C11 -> 170.08489 | D22: =Assumptions!C67 -> 0 | E22: =C22*D22 -> 0
B23: EV / Sales (NTM) | C23: =C12 -> 89.833293 | D23: =Assumptions!C68 -> 0.05 | E23: =C23*D23 -> 4.4916646
B24: Price / Book | C24: =C13 -> 77.808211 | D24: =Assumptions!C69 -> 0.05 | E24: =C24*D24 -> 3.8904106
B26: Final Fair Value per Common Share | C26: =SUM(E19:E24) -> 77.03044
B27: (sum of weighted values)
B28: Final Fair Value per ADS | C28: =C26*5 -> 385.1522
A31: x | B31: SENSITIVITY SUMMARY
B33: DCF Sensitivity (WACC x g)
B34: Min Value | C34: =MIN(Sensitivity!D11:I15) -> 35.90662
B35: Base Case Value | C35: =DCF!C55 -> 53.626441
B36: Max Value | C36: =MAX(Sensitivity!D11:I15) -> 177.84239
B37: Value Range | C37: =C36-C34 -> 141.93577
B39: Multiple Sensitivity (EV/EBITDA x EBITDA)
B40: Min Value | C40: =MIN(Sensitivity!D24:J28) -> 80.623558
B41: Base Case Value | C41: =Comps!H40 -> 136.8419
B42: Max Value | C42: =MAX(Sensitivity!D24:J28) -> 207.30233
A45: x | B45: ANALYST COMMENTARY
